BEGIN:VCALENDAR
VERSION:2.0
PRODID:-//J.A. RCR et Premiers Soins - ECPv6.15.17.1//NONSGML v1.0//EN
CALSCALE:GREGORIAN
METHOD:PUBLISH
X-WR-CALNAME:J.A. RCR et Premiers Soins
X-ORIGINAL-URL:https://jarcr.ca/en/
X-WR-CALDESC:Events for J.A. RCR et Premiers Soins
REFRESH-INTERVAL;VALUE=DURATION:PT1H
X-Robots-Tag:noindex
X-PUBLISHED-TTL:PT1H
BEGIN:VTIMEZONE
TZID:America/Moncton
BEGIN:DAYLIGHT
TZOFFSETFROM:-0400
TZOFFSETTO:-0300
TZNAME:ADT
DTSTART:20240310T060000
END:DAYLIGHT
BEGIN:STANDARD
TZOFFSETFROM:-0300
TZOFFSETTO:-0400
TZNAME:AST
DTSTART:20241103T050000
END:STANDARD
BEGIN:DAYLIGHT
TZOFFSETFROM:-0400
TZOFFSETTO:-0300
TZNAME:ADT
DTSTART:20250309T060000
END:DAYLIGHT
BEGIN:STANDARD
TZOFFSETFROM:-0300
TZOFFSETTO:-0400
TZNAME:AST
DTSTART:20251102T050000
END:STANDARD
BEGIN:DAYLIGHT
TZOFFSETFROM:-0400
TZOFFSETTO:-0300
TZNAME:ADT
DTSTART:20260308T060000
END:DAYLIGHT
BEGIN:STANDARD
TZOFFSETFROM:-0300
TZOFFSETTO:-0400
TZNAME:AST
DTSTART:20261101T050000
END:STANDARD
END:VTIMEZONE
BEGIN:VEVENT
DTSTART;TZID=America/Moncton:20250523T083000
DTEND;TZID=America/Moncton:20250523T160000
DTSTAMP:20260422T174611
CREATED:20250306T172348Z
LAST-MODIFIED:20250312T225149Z
UID:10000161-1747989000-1748016000@jarcr.ca
SUMMARY:Renewal ∼ First Aid Instructor (French) 230525
DESCRIPTION:  \nCycle 2023-2026\nPrerequisites:\n🚩A current CRC First Aid Instructor certification. \n🚩First Aid Instructors have taught a minimum of three Canadian Red Cross First Aid Program courses during the three-year certification period. (Psychological First Aid Instructors have taught a minimum of one Canadian Red Cross Psychological First Aid during the three-year certification period).  \n🚩One course must have been taught in each discipline the Instructor is seeking recertification (course taught must be at the highest level of certification within each discipline; recertification and blended courses also qualify). \nNote: Courses which were taught in combination (e.g. Standard First Aid and Emergency First Aid) do not count as separate courses for the purpose of recertification prerequisites.
URL:https://jarcr.ca/en/formation/renewal-%e2%88%bc-first-aid-instructor-french-230525/
LOCATION:43 François Street\, Petit-Rocher West\, NB\, 43 François street\, Petit-Rocher West\, NB\, E8J 1X4\, Canada
CATEGORIES:First Aid and CPR Instructor
ATTACH;FMTTYPE=image/png:https://jarcr.ca/wp-content/uploads/2024/07/Moniteur.png
ORGANIZER;CN="J.A. RCR et Premiers Soins":MAILTO:info@jarcr.ca
END:VEVENT
END:VCALENDAR