BEGIN:VCALENDAR
VERSION:2.0
PRODID:-//J.A. RCR et Premiers Soins - ECPv6.15.17.1//NONSGML v1.0//EN
CALSCALE:GREGORIAN
METHOD:PUBLISH
X-WR-CALNAME:J.A. RCR et Premiers Soins
X-ORIGINAL-URL:https://jarcr.ca/en/
X-WR-CALDESC:Events for J.A. RCR et Premiers Soins
REFRESH-INTERVAL;VALUE=DURATION:PT1H
X-Robots-Tag:noindex
X-PUBLISHED-TTL:PT1H
BEGIN:VTIMEZONE
TZID:America/Moncton
BEGIN:DAYLIGHT
TZOFFSETFROM:-0400
TZOFFSETTO:-0300
TZNAME:ADT
DTSTART:20250309T060000
END:DAYLIGHT
BEGIN:STANDARD
TZOFFSETFROM:-0300
TZOFFSETTO:-0400
TZNAME:AST
DTSTART:20251102T050000
END:STANDARD
BEGIN:DAYLIGHT
TZOFFSETFROM:-0400
TZOFFSETTO:-0300
TZNAME:ADT
DTSTART:20260308T060000
END:DAYLIGHT
BEGIN:STANDARD
TZOFFSETFROM:-0300
TZOFFSETTO:-0400
TZNAME:AST
DTSTART:20261101T050000
END:STANDARD
BEGIN:DAYLIGHT
TZOFFSETFROM:-0400
TZOFFSETTO:-0300
TZNAME:ADT
DTSTART:20270314T060000
END:DAYLIGHT
BEGIN:STANDARD
TZOFFSETFROM:-0300
TZOFFSETTO:-0400
TZNAME:AST
DTSTART:20271107T050000
END:STANDARD
END:VTIMEZONE
BEGIN:VEVENT
DTSTART;TZID=America/Moncton:20260422T090000
DTEND;TZID=America/Moncton:20260423T170000
DTSTAMP:20260422T192427
CREATED:20260305T194351Z
LAST-MODIFIED:20260305T194351Z
UID:10000296-1776848400-1776963600@jarcr.ca
SUMMARY:Standard or Emergency First Aid - CPR/AED level C [French] 220426
DESCRIPTION:Location: J.A. RCR et Premiers Soins\nAddress: 43 François street\, Petit-Rocher West (NB)\nTraining room: Located at the back of the building\nDate: Starts SATURDAY April 22\, 2026\nStart time: 9 a.m.\nCourse language: French\n  \nMeets provincial and territorial legislative requirements for occupational safety and workers’ compensation insurance.\nEmergency First Aid training also meets the requirements of the Ministry of Education and Early Childhood Development.\n \nCertification valid for 3 years\n(electronic certificate issued on completion of course)\n  \n***Training option: Please confirm with your employer which course is required for your position.\n 
URL:https://jarcr.ca/en/formation/standard-or-emergency-first-aid-cpr-aed-level-c-french-220426/
LOCATION:43 François Street\, Petit-Rocher West\, NB\, 43 François street\, Petit-Rocher West\, NB\, E8J 1X4\, Canada
CATEGORIES:Emergency First Aid,Standard First Aid CPR/AED level C
ATTACH;FMTTYPE=image/jpeg:https://jarcr.ca/wp-content/uploads/2024/04/premier-soins-scaled.jpeg
END:VEVENT
END:VCALENDAR